BEGIN:VCALENDAR
VERSION:2.0
PRODID:-//Christengemeente Midden-Limburg - ECPv6.15.20//NONSGML v1.0//EN
CALSCALE:GREGORIAN
METHOD:PUBLISH
X-ORIGINAL-URL:https://www.christengemeente-midden-limburg.nl
X-WR-CALDESC:Evenementen voor Christengemeente Midden-Limburg
REFRESH-INTERVAL;VALUE=DURATION:PT1H
X-Robots-Tag:noindex
X-PUBLISHED-TTL:PT1H
BEGIN:VTIMEZONE
TZID:Europe/Amsterdam
BEGIN:DAYLIGHT
TZOFFSETFROM:+0100
TZOFFSETTO:+0200
TZNAME:CEST
DTSTART:20230326T010000
END:DAYLIGHT
BEGIN:STANDARD
TZOFFSETFROM:+0200
TZOFFSETTO:+0100
TZNAME:CET
DTSTART:20231029T010000
END:STANDARD
BEGIN:DAYLIGHT
TZOFFSETFROM:+0100
TZOFFSETTO:+0200
TZNAME:CEST
DTSTART:20240331T010000
END:DAYLIGHT
BEGIN:STANDARD
TZOFFSETFROM:+0200
TZOFFSETTO:+0100
TZNAME:CET
DTSTART:20241027T010000
END:STANDARD
BEGIN:DAYLIGHT
TZOFFSETFROM:+0100
TZOFFSETTO:+0200
TZNAME:CEST
DTSTART:20250330T010000
END:DAYLIGHT
BEGIN:STANDARD
TZOFFSETFROM:+0200
TZOFFSETTO:+0100
TZNAME:CET
DTSTART:20251026T010000
END:STANDARD
END:VTIMEZONE
BEGIN:VEVENT
DTSTART;TZID=Europe/Amsterdam:20241126T200000
DTEND;TZID=Europe/Amsterdam:20241126T220000
DTSTAMP:20260422T091250
CREATED:20240820T123234Z
LAST-MODIFIED:20240820T123234Z
UID:5402-1732651200-1732658400@www.christengemeente-midden-limburg.nl
SUMMARY:Kringavonden
DESCRIPTION:
URL:https://www.christengemeente-midden-limburg.nl/agenda-item/kringavonden-26-11-2024/
CATEGORIES:Huiskringen
ATTACH;FMTTYPE=image/png:https://www.christengemeente-midden-limburg.nl/wp-content/uploads/2024/04/huiskringen.png
END:VEVENT
BEGIN:VEVENT
DTSTART;TZID=Europe/Amsterdam:20241113T200000
DTEND;TZID=Europe/Amsterdam:20241113T220000
DTSTAMP:20260422T091250
CREATED:20240820T122401Z
LAST-MODIFIED:20240820T122401Z
UID:5393-1731528000-1731535200@www.christengemeente-midden-limburg.nl
SUMMARY:Kringavonden
DESCRIPTION:
URL:https://www.christengemeente-midden-limburg.nl/agenda-item/kringavonden-13-11-2024/
CATEGORIES:Huiskringen
ATTACH;FMTTYPE=image/png:https://www.christengemeente-midden-limburg.nl/wp-content/uploads/2024/04/huiskringen.png
END:VEVENT
BEGIN:VEVENT
DTSTART;TZID=Europe/Amsterdam:20241112T200000
DTEND;TZID=Europe/Amsterdam:20241112T220000
DTSTAMP:20260422T091250
CREATED:20240820T122344Z
LAST-MODIFIED:20240820T122344Z
UID:5391-1731441600-1731448800@www.christengemeente-midden-limburg.nl
SUMMARY:Kringavonden
DESCRIPTION:
URL:https://www.christengemeente-midden-limburg.nl/agenda-item/kringavonden-12-11-2024/
CATEGORIES:Huiskringen
ATTACH;FMTTYPE=image/png:https://www.christengemeente-midden-limburg.nl/wp-content/uploads/2024/04/huiskringen.png
END:VEVENT
BEGIN:VEVENT
DTSTART;TZID=Europe/Amsterdam:20241030T200000
DTEND;TZID=Europe/Amsterdam:20241030T220000
DTSTAMP:20260422T091250
CREATED:20240820T121638Z
LAST-MODIFIED:20240820T121638Z
UID:5382-1730318400-1730325600@www.christengemeente-midden-limburg.nl
SUMMARY:Kringavonden
DESCRIPTION:
URL:https://www.christengemeente-midden-limburg.nl/agenda-item/kringavonden-30-10-2024/
CATEGORIES:Huiskringen
ATTACH;FMTTYPE=image/png:https://www.christengemeente-midden-limburg.nl/wp-content/uploads/2024/04/huiskringen.png
END:VEVENT
BEGIN:VEVENT
DTSTART;TZID=Europe/Amsterdam:20241029T200000
DTEND;TZID=Europe/Amsterdam:20241029T220000
DTSTAMP:20260422T091250
CREATED:20240820T121618Z
LAST-MODIFIED:20240820T121618Z
UID:5380-1730232000-1730239200@www.christengemeente-midden-limburg.nl
SUMMARY:Kringavonden
DESCRIPTION:
URL:https://www.christengemeente-midden-limburg.nl/agenda-item/kringavonden-29-10-2024/
CATEGORIES:Huiskringen
ATTACH;FMTTYPE=image/png:https://www.christengemeente-midden-limburg.nl/wp-content/uploads/2024/04/huiskringen.png
END:VEVENT
BEGIN:VEVENT
DTSTART;TZID=Europe/Amsterdam:20241016T200000
DTEND;TZID=Europe/Amsterdam:20241016T220000
DTSTAMP:20260422T091250
CREATED:20240820T085203Z
LAST-MODIFIED:20240820T085203Z
UID:5369-1729108800-1729116000@www.christengemeente-midden-limburg.nl
SUMMARY:Kringavonden
DESCRIPTION:
URL:https://www.christengemeente-midden-limburg.nl/agenda-item/kringavonden-16-10-2024/
CATEGORIES:Huiskringen
ATTACH;FMTTYPE=image/png:https://www.christengemeente-midden-limburg.nl/wp-content/uploads/2024/04/huiskringen.png
END:VEVENT
BEGIN:VEVENT
DTSTART;TZID=Europe/Amsterdam:20241015T200000
DTEND;TZID=Europe/Amsterdam:20241015T220000
DTSTAMP:20260422T091250
CREATED:20240820T085140Z
LAST-MODIFIED:20240820T085140Z
UID:5367-1729022400-1729029600@www.christengemeente-midden-limburg.nl
SUMMARY:Kringavonden
DESCRIPTION:
URL:https://www.christengemeente-midden-limburg.nl/agenda-item/kringavonden-15-10-2024/
CATEGORIES:Huiskringen
ATTACH;FMTTYPE=image/png:https://www.christengemeente-midden-limburg.nl/wp-content/uploads/2024/04/huiskringen.png
END:VEVENT
BEGIN:VEVENT
DTSTART;TZID=Europe/Amsterdam:20241002T200000
DTEND;TZID=Europe/Amsterdam:20241002T220000
DTSTAMP:20260422T091250
CREATED:20240819T134136Z
LAST-MODIFIED:20240819T134136Z
UID:5355-1727899200-1727906400@www.christengemeente-midden-limburg.nl
SUMMARY:Kringavonden
DESCRIPTION:
URL:https://www.christengemeente-midden-limburg.nl/agenda-item/kringavonden-02-10-2024/
CATEGORIES:Huiskringen
ATTACH;FMTTYPE=image/png:https://www.christengemeente-midden-limburg.nl/wp-content/uploads/2024/04/huiskringen.png
END:VEVENT
BEGIN:VEVENT
DTSTART;TZID=Europe/Amsterdam:20241001T200000
DTEND;TZID=Europe/Amsterdam:20241001T220000
DTSTAMP:20260422T091250
CREATED:20240819T134051Z
LAST-MODIFIED:20240819T134051Z
UID:5353-1727812800-1727820000@www.christengemeente-midden-limburg.nl
SUMMARY:Kringavonden
DESCRIPTION:
URL:https://www.christengemeente-midden-limburg.nl/agenda-item/kringavonden-01-10-2024/
CATEGORIES:Huiskringen
ATTACH;FMTTYPE=image/png:https://www.christengemeente-midden-limburg.nl/wp-content/uploads/2024/04/huiskringen.png
END:VEVENT
BEGIN:VEVENT
DTSTART;TZID=Europe/Amsterdam:20240904T200000
DTEND;TZID=Europe/Amsterdam:20240904T220000
DTSTAMP:20260422T091250
CREATED:20240819T111845Z
LAST-MODIFIED:20240819T111845Z
UID:5338-1725480000-1725487200@www.christengemeente-midden-limburg.nl
SUMMARY:Kringavonden
DESCRIPTION:
URL:https://www.christengemeente-midden-limburg.nl/agenda-item/kringavonden-04-09-2024/
CATEGORIES:Huiskringen
ATTACH;FMTTYPE=image/png:https://www.christengemeente-midden-limburg.nl/wp-content/uploads/2024/04/huiskringen.png
END:VEVENT
BEGIN:VEVENT
DTSTART;TZID=Europe/Amsterdam:20240903T200000
DTEND;TZID=Europe/Amsterdam:20240903T220000
DTSTAMP:20260422T091250
CREATED:20240819T111325Z
LAST-MODIFIED:20240819T111325Z
UID:5336-1725393600-1725400800@www.christengemeente-midden-limburg.nl
SUMMARY:Kringavonden
DESCRIPTION:
URL:https://www.christengemeente-midden-limburg.nl/agenda-item/kringavonden-03-09-2024/
CATEGORIES:Huiskringen
ATTACH;FMTTYPE=image/png:https://www.christengemeente-midden-limburg.nl/wp-content/uploads/2024/04/huiskringen.png
END:VEVENT
BEGIN:VEVENT
DTSTART;TZID=Europe/Amsterdam:20240612T200000
DTEND;TZID=Europe/Amsterdam:20240612T220000
DTSTAMP:20260422T091250
CREATED:20240412T154139Z
LAST-MODIFIED:20240819T081207Z
UID:4432-1718222400-1718229600@www.christengemeente-midden-limburg.nl
SUMMARY:Kringavonden
DESCRIPTION:
URL:https://www.christengemeente-midden-limburg.nl/agenda-item/kringavonden-12-06-2024/
CATEGORIES:Huiskringen
ATTACH;FMTTYPE=image/png:https://www.christengemeente-midden-limburg.nl/wp-content/uploads/2024/04/huiskringen.png
END:VEVENT
BEGIN:VEVENT
DTSTART;TZID=Europe/Amsterdam:20240611T200000
DTEND;TZID=Europe/Amsterdam:20240611T220000
DTSTAMP:20260422T091250
CREATED:20240412T154119Z
LAST-MODIFIED:20240819T081228Z
UID:4430-1718136000-1718143200@www.christengemeente-midden-limburg.nl
SUMMARY:kringavonden
DESCRIPTION:
URL:https://www.christengemeente-midden-limburg.nl/agenda-item/kringavonden-11-06-2024/
CATEGORIES:Huiskringen
ATTACH;FMTTYPE=image/png:https://www.christengemeente-midden-limburg.nl/wp-content/uploads/2024/04/huiskringen.png
END:VEVENT
BEGIN:VEVENT
DTSTART;TZID=Europe/Amsterdam:20240529T200000
DTEND;TZID=Europe/Amsterdam:20240529T220000
DTSTAMP:20260422T091250
CREATED:20240412T080008Z
LAST-MODIFIED:20240819T084856Z
UID:4379-1717012800-1717020000@www.christengemeente-midden-limburg.nl
SUMMARY:kringavonden
DESCRIPTION:
URL:https://www.christengemeente-midden-limburg.nl/agenda-item/kringavonden-29-05-2024/
CATEGORIES:Huiskringen
ATTACH;FMTTYPE=image/png:https://www.christengemeente-midden-limburg.nl/wp-content/uploads/2024/04/huiskringen.png
END:VEVENT
BEGIN:VEVENT
DTSTART;TZID=Europe/Amsterdam:20240528T200000
DTEND;TZID=Europe/Amsterdam:20240528T220000
DTSTAMP:20260422T091250
CREATED:20240412T075847Z
LAST-MODIFIED:20240819T084909Z
UID:4377-1716926400-1716933600@www.christengemeente-midden-limburg.nl
SUMMARY:Kringavonden
DESCRIPTION:
URL:https://www.christengemeente-midden-limburg.nl/agenda-item/kringavonden-28-05-2024/
CATEGORIES:Huiskringen
ATTACH;FMTTYPE=image/png:https://www.christengemeente-midden-limburg.nl/wp-content/uploads/2024/04/huiskringen.png
END:VEVENT
BEGIN:VEVENT
DTSTART;TZID=Europe/Amsterdam:20240417T200000
DTEND;TZID=Europe/Amsterdam:20240417T220000
DTSTAMP:20260422T091250
CREATED:20240411T100535Z
LAST-MODIFIED:20240819T085158Z
UID:4297-1713384000-1713391200@www.christengemeente-midden-limburg.nl
SUMMARY:Kringavonden
DESCRIPTION:
URL:https://www.christengemeente-midden-limburg.nl/agenda-item/kringavonden-17-04-2024/
CATEGORIES:Huiskringen
ATTACH;FMTTYPE=image/png:https://www.christengemeente-midden-limburg.nl/wp-content/uploads/2024/04/huiskringen.png
END:VEVENT
BEGIN:VEVENT
DTSTART;TZID=Europe/Amsterdam:20240416T200000
DTEND;TZID=Europe/Amsterdam:20240416T220000
DTSTAMP:20260422T091250
CREATED:20240411T100337Z
LAST-MODIFIED:20240819T085209Z
UID:4295-1713297600-1713304800@www.christengemeente-midden-limburg.nl
SUMMARY:Kringavonden
DESCRIPTION:
URL:https://www.christengemeente-midden-limburg.nl/agenda-item/kringavonden-16-04-2024/
CATEGORIES:Huiskringen
ATTACH;FMTTYPE=image/png:https://www.christengemeente-midden-limburg.nl/wp-content/uploads/2024/04/huiskringen.png
END:VEVENT
END:VCALENDAR