BEGIN:VCALENDAR
VERSION:2.0
PRODID:-//Christengemeente Midden-Limburg - ECPv6.15.20//NONSGML v1.0//EN
CALSCALE:GREGORIAN
METHOD:PUBLISH
X-ORIGINAL-URL:https://www.christengemeente-midden-limburg.nl
X-WR-CALDESC:Evenementen voor Christengemeente Midden-Limburg
REFRESH-INTERVAL;VALUE=DURATION:PT1H
X-Robots-Tag:noindex
X-PUBLISHED-TTL:PT1H
BEGIN:VTIMEZONE
TZID:Europe/Amsterdam
BEGIN:DAYLIGHT
TZOFFSETFROM:+0100
TZOFFSETTO:+0200
TZNAME:CEST
DTSTART:20230326T010000
END:DAYLIGHT
BEGIN:STANDARD
TZOFFSETFROM:+0200
TZOFFSETTO:+0100
TZNAME:CET
DTSTART:20231029T010000
END:STANDARD
BEGIN:DAYLIGHT
TZOFFSETFROM:+0100
TZOFFSETTO:+0200
TZNAME:CEST
DTSTART:20240331T010000
END:DAYLIGHT
BEGIN:STANDARD
TZOFFSETFROM:+0200
TZOFFSETTO:+0100
TZNAME:CET
DTSTART:20241027T010000
END:STANDARD
BEGIN:DAYLIGHT
TZOFFSETFROM:+0100
TZOFFSETTO:+0200
TZNAME:CEST
DTSTART:20250330T010000
END:DAYLIGHT
BEGIN:STANDARD
TZOFFSETFROM:+0200
TZOFFSETTO:+0100
TZNAME:CET
DTSTART:20251026T010000
END:STANDARD
BEGIN:DAYLIGHT
TZOFFSETFROM:+0100
TZOFFSETTO:+0200
TZNAME:CEST
DTSTART:20260329T010000
END:DAYLIGHT
BEGIN:STANDARD
TZOFFSETFROM:+0200
TZOFFSETTO:+0100
TZNAME:CET
DTSTART:20261025T010000
END:STANDARD
BEGIN:DAYLIGHT
TZOFFSETFROM:+0100
TZOFFSETTO:+0200
TZNAME:CEST
DTSTART:20270328T010000
END:DAYLIGHT
BEGIN:STANDARD
TZOFFSETFROM:+0200
TZOFFSETTO:+0100
TZNAME:CET
DTSTART:20271031T010000
END:STANDARD
END:VTIMEZONE
BEGIN:VEVENT
DTSTART;TZID=Europe/Amsterdam:20260114T200000
DTEND;TZID=Europe/Amsterdam:20260114T220000
DTSTAMP:20260421T183159
CREATED:20260105T184228Z
LAST-MODIFIED:20260105T184228Z
UID:6736-1768420800-1768428000@www.christengemeente-midden-limburg.nl
SUMMARY:Kringavonden
DESCRIPTION:
URL:https://www.christengemeente-midden-limburg.nl/agenda-item/kringavonden-14-01-2026/
CATEGORIES:Huiskringen
ATTACH;FMTTYPE=image/png:https://www.christengemeente-midden-limburg.nl/wp-content/uploads/2024/09/jeugd.png
END:VEVENT
BEGIN:VEVENT
DTSTART;TZID=Europe/Amsterdam:20260113T200000
DTEND;TZID=Europe/Amsterdam:20260113T220000
DTSTAMP:20260421T183159
CREATED:20260105T184152Z
LAST-MODIFIED:20260105T184152Z
UID:6734-1768334400-1768341600@www.christengemeente-midden-limburg.nl
SUMMARY:Kringavonden
DESCRIPTION:
URL:https://www.christengemeente-midden-limburg.nl/agenda-item/kringavonden-13-01-2026/
CATEGORIES:Huiskringen
ATTACH;FMTTYPE=image/png:https://www.christengemeente-midden-limburg.nl/wp-content/uploads/2024/09/jeugd.png
END:VEVENT
BEGIN:VEVENT
DTSTART;TZID=Europe/Amsterdam:20251210T200000
DTEND;TZID=Europe/Amsterdam:20251210T220000
DTSTAMP:20260421T183159
CREATED:20250730T105737Z
LAST-MODIFIED:20250730T105737Z
UID:6430-1765396800-1765404000@www.christengemeente-midden-limburg.nl
SUMMARY:Kringavonden
DESCRIPTION:
URL:https://www.christengemeente-midden-limburg.nl/agenda-item/kringavonden-10-12-2025/
CATEGORIES:Huiskringen
ATTACH;FMTTYPE=image/png:https://www.christengemeente-midden-limburg.nl/wp-content/uploads/2024/09/jeugd.png
END:VEVENT
BEGIN:VEVENT
DTSTART;TZID=Europe/Amsterdam:20251209T200000
DTEND;TZID=Europe/Amsterdam:20251209T220000
DTSTAMP:20260421T183159
CREATED:20250730T105721Z
LAST-MODIFIED:20250730T105721Z
UID:6428-1765310400-1765317600@www.christengemeente-midden-limburg.nl
SUMMARY:Kringavonden
DESCRIPTION:
URL:https://www.christengemeente-midden-limburg.nl/agenda-item/kringavonden-09-12-2025/
CATEGORIES:Huiskringen
ATTACH;FMTTYPE=image/png:https://www.christengemeente-midden-limburg.nl/wp-content/uploads/2024/09/jeugd.png
END:VEVENT
BEGIN:VEVENT
DTSTART;TZID=Europe/Amsterdam:20251126T200000
DTEND;TZID=Europe/Amsterdam:20251126T220000
DTSTAMP:20260421T183159
CREATED:20250730T105136Z
LAST-MODIFIED:20250730T105136Z
UID:6420-1764187200-1764194400@www.christengemeente-midden-limburg.nl
SUMMARY:Kringavonden
DESCRIPTION:
URL:https://www.christengemeente-midden-limburg.nl/agenda-item/kringavonden-26-11-2025/
CATEGORIES:Huiskringen
ATTACH;FMTTYPE=image/png:https://www.christengemeente-midden-limburg.nl/wp-content/uploads/2024/09/jeugd.png
END:VEVENT
BEGIN:VEVENT
DTSTART;TZID=Europe/Amsterdam:20251125T200000
DTEND;TZID=Europe/Amsterdam:20251125T220000
DTSTAMP:20260421T183159
CREATED:20250730T105117Z
LAST-MODIFIED:20250730T105117Z
UID:6418-1764100800-1764108000@www.christengemeente-midden-limburg.nl
SUMMARY:Kringavonden
DESCRIPTION:
URL:https://www.christengemeente-midden-limburg.nl/agenda-item/kringavonden-25-11-2025/
CATEGORIES:Huiskringen
ATTACH;FMTTYPE=image/png:https://www.christengemeente-midden-limburg.nl/wp-content/uploads/2024/09/jeugd.png
END:VEVENT
BEGIN:VEVENT
DTSTART;TZID=Europe/Amsterdam:20251112T200000
DTEND;TZID=Europe/Amsterdam:20251112T220000
DTSTAMP:20260421T183159
CREATED:20250730T104945Z
LAST-MODIFIED:20250730T104945Z
UID:6414-1762977600-1762984800@www.christengemeente-midden-limburg.nl
SUMMARY:Kringavonden
DESCRIPTION:
URL:https://www.christengemeente-midden-limburg.nl/agenda-item/kringavonden-12-11-2025/
CATEGORIES:Huiskringen
ATTACH;FMTTYPE=image/png:https://www.christengemeente-midden-limburg.nl/wp-content/uploads/2024/09/jeugd.png
END:VEVENT
BEGIN:VEVENT
DTSTART;TZID=Europe/Amsterdam:20251111T200000
DTEND;TZID=Europe/Amsterdam:20251111T220000
DTSTAMP:20260421T183159
CREATED:20250730T104926Z
LAST-MODIFIED:20250730T104926Z
UID:6412-1762891200-1762898400@www.christengemeente-midden-limburg.nl
SUMMARY:Kringavonden
DESCRIPTION:
URL:https://www.christengemeente-midden-limburg.nl/agenda-item/kringavonden-11-11-2025/
CATEGORIES:Huiskringen
ATTACH;FMTTYPE=image/png:https://www.christengemeente-midden-limburg.nl/wp-content/uploads/2024/09/jeugd.png
END:VEVENT
BEGIN:VEVENT
DTSTART;TZID=Europe/Amsterdam:20251029T200000
DTEND;TZID=Europe/Amsterdam:20251029T220000
DTSTAMP:20260421T183159
CREATED:20250730T104646Z
LAST-MODIFIED:20250730T104646Z
UID:6407-1761768000-1761775200@www.christengemeente-midden-limburg.nl
SUMMARY:Kringavonden
DESCRIPTION:
URL:https://www.christengemeente-midden-limburg.nl/agenda-item/kringavonden-29-10-2025/
CATEGORIES:Huiskringen
ATTACH;FMTTYPE=image/png:https://www.christengemeente-midden-limburg.nl/wp-content/uploads/2024/09/jeugd.png
END:VEVENT
BEGIN:VEVENT
DTSTART;TZID=Europe/Amsterdam:20251028T200000
DTEND;TZID=Europe/Amsterdam:20251028T220000
DTSTAMP:20260421T183159
CREATED:20250730T104613Z
LAST-MODIFIED:20250730T104613Z
UID:6405-1761681600-1761688800@www.christengemeente-midden-limburg.nl
SUMMARY:Kringavonden
DESCRIPTION:
URL:https://www.christengemeente-midden-limburg.nl/agenda-item/kringavonden-28-10-2025/
CATEGORIES:Huiskringen
ATTACH;FMTTYPE=image/png:https://www.christengemeente-midden-limburg.nl/wp-content/uploads/2024/09/jeugd.png
END:VEVENT
BEGIN:VEVENT
DTSTART;TZID=Europe/Amsterdam:20251001T200000
DTEND;TZID=Europe/Amsterdam:20251001T220000
DTSTAMP:20260421T183159
CREATED:20250730T104339Z
LAST-MODIFIED:20250730T104339Z
UID:6399-1759348800-1759356000@www.christengemeente-midden-limburg.nl
SUMMARY:Kringavonden
DESCRIPTION:
URL:https://www.christengemeente-midden-limburg.nl/agenda-item/kringavonden-01-10-2025/
CATEGORIES:Huiskringen
ATTACH;FMTTYPE=image/png:https://www.christengemeente-midden-limburg.nl/wp-content/uploads/2024/09/jeugd.png
END:VEVENT
BEGIN:VEVENT
DTSTART;TZID=Europe/Amsterdam:20250930T200000
DTEND;TZID=Europe/Amsterdam:20250930T220000
DTSTAMP:20260421T183159
CREATED:20250730T104247Z
LAST-MODIFIED:20250730T104247Z
UID:6397-1759262400-1759269600@www.christengemeente-midden-limburg.nl
SUMMARY:Kringavonden
DESCRIPTION:
URL:https://www.christengemeente-midden-limburg.nl/agenda-item/kringavonden-30-09-2025/
CATEGORIES:Huiskringen
ATTACH;FMTTYPE=image/png:https://www.christengemeente-midden-limburg.nl/wp-content/uploads/2024/09/jeugd.png
END:VEVENT
BEGIN:VEVENT
DTSTART;TZID=Europe/Amsterdam:20250917T200000
DTEND;TZID=Europe/Amsterdam:20250917T220000
DTSTAMP:20260421T183159
CREATED:20250730T104109Z
LAST-MODIFIED:20250730T104109Z
UID:6393-1758139200-1758146400@www.christengemeente-midden-limburg.nl
SUMMARY:Kringavonden
DESCRIPTION:
URL:https://www.christengemeente-midden-limburg.nl/agenda-item/kringavonden-17-09-2025/
CATEGORIES:Huiskringen
ATTACH;FMTTYPE=image/png:https://www.christengemeente-midden-limburg.nl/wp-content/uploads/2024/09/jeugd.png
END:VEVENT
BEGIN:VEVENT
DTSTART;TZID=Europe/Amsterdam:20250916T200000
DTEND;TZID=Europe/Amsterdam:20250916T220000
DTSTAMP:20260421T183159
CREATED:20250730T104022Z
LAST-MODIFIED:20250730T104038Z
UID:6391-1758052800-1758060000@www.christengemeente-midden-limburg.nl
SUMMARY:Kringavonden
DESCRIPTION:
URL:https://www.christengemeente-midden-limburg.nl/agenda-item/kringavonden-16-09-2025/
CATEGORIES:Huiskringen
ATTACH;FMTTYPE=image/png:https://www.christengemeente-midden-limburg.nl/wp-content/uploads/2024/09/jeugd.png
END:VEVENT
BEGIN:VEVENT
DTSTART;TZID=Europe/Amsterdam:20250625T200000
DTEND;TZID=Europe/Amsterdam:20250625T220000
DTSTAMP:20260421T183159
CREATED:20250619T212346Z
LAST-MODIFIED:20250619T212346Z
UID:6309-1750881600-1750888800@www.christengemeente-midden-limburg.nl
SUMMARY:Kringavonden
DESCRIPTION:
URL:https://www.christengemeente-midden-limburg.nl/agenda-item/kringavonden-2/
CATEGORIES:Huiskringen
ATTACH;FMTTYPE=image/png:https://www.christengemeente-midden-limburg.nl/wp-content/uploads/2024/09/jeugd.png
END:VEVENT
BEGIN:VEVENT
DTSTART;TZID=Europe/Amsterdam:20250624T200000
DTEND;TZID=Europe/Amsterdam:20250624T220000
DTSTAMP:20260421T183159
CREATED:20250619T212101Z
LAST-MODIFIED:20250619T212225Z
UID:6306-1750795200-1750802400@www.christengemeente-midden-limburg.nl
SUMMARY:Kringavonden
DESCRIPTION:
URL:https://www.christengemeente-midden-limburg.nl/agenda-item/kringavonden/
CATEGORIES:Huiskringen
ATTACH;FMTTYPE=image/png:https://www.christengemeente-midden-limburg.nl/wp-content/uploads/2024/09/jeugd.png
END:VEVENT
BEGIN:VEVENT
DTSTART;TZID=Europe/Amsterdam:20250528T200000
DTEND;TZID=Europe/Amsterdam:20250528T220000
DTSTAMP:20260421T183159
CREATED:20250107T154458Z
LAST-MODIFIED:20250107T154458Z
UID:5999-1748462400-1748469600@www.christengemeente-midden-limburg.nl
SUMMARY:Kringavonden
DESCRIPTION:
URL:https://www.christengemeente-midden-limburg.nl/agenda-item/kringavonden-28-05-2025/
CATEGORIES:Huiskringen
ATTACH;FMTTYPE=image/png:https://www.christengemeente-midden-limburg.nl/wp-content/uploads/2024/04/huiskringen.png
END:VEVENT
BEGIN:VEVENT
DTSTART;TZID=Europe/Amsterdam:20250527T200000
DTEND;TZID=Europe/Amsterdam:20250527T220000
DTSTAMP:20260421T183159
CREATED:20250107T154433Z
LAST-MODIFIED:20250107T154433Z
UID:5997-1748376000-1748383200@www.christengemeente-midden-limburg.nl
SUMMARY:Kringavonden
DESCRIPTION:
URL:https://www.christengemeente-midden-limburg.nl/agenda-item/kringavonden-27-05-2025/
CATEGORIES:Huiskringen
ATTACH;FMTTYPE=image/png:https://www.christengemeente-midden-limburg.nl/wp-content/uploads/2024/04/huiskringen.png
END:VEVENT
BEGIN:VEVENT
DTSTART;TZID=Europe/Amsterdam:20250514T200000
DTEND;TZID=Europe/Amsterdam:20250514T220000
DTSTAMP:20260421T183159
CREATED:20250107T154259Z
LAST-MODIFIED:20250107T154259Z
UID:5993-1747252800-1747260000@www.christengemeente-midden-limburg.nl
SUMMARY:Kringavonden
DESCRIPTION:
URL:https://www.christengemeente-midden-limburg.nl/agenda-item/kringavonden-14-05-2025/
CATEGORIES:Huiskringen
ATTACH;FMTTYPE=image/png:https://www.christengemeente-midden-limburg.nl/wp-content/uploads/2024/04/huiskringen.png
END:VEVENT
BEGIN:VEVENT
DTSTART;TZID=Europe/Amsterdam:20250513T200000
DTEND;TZID=Europe/Amsterdam:20250513T220000
DTSTAMP:20260421T183159
CREATED:20250107T154239Z
LAST-MODIFIED:20250107T154239Z
UID:5991-1747166400-1747173600@www.christengemeente-midden-limburg.nl
SUMMARY:Kringavonden
DESCRIPTION:
URL:https://www.christengemeente-midden-limburg.nl/agenda-item/kringavonden-13-05-2025/
CATEGORIES:Huiskringen
ATTACH;FMTTYPE=image/png:https://www.christengemeente-midden-limburg.nl/wp-content/uploads/2024/04/huiskringen.png
END:VEVENT
BEGIN:VEVENT
DTSTART;TZID=Europe/Amsterdam:20250416T200000
DTEND;TZID=Europe/Amsterdam:20250416T220000
DTSTAMP:20260421T183159
CREATED:20250107T153953Z
LAST-MODIFIED:20250107T153953Z
UID:5987-1744833600-1744840800@www.christengemeente-midden-limburg.nl
SUMMARY:Kringavonden
DESCRIPTION:
URL:https://www.christengemeente-midden-limburg.nl/agenda-item/kringavonden-16-04-2025/
CATEGORIES:Huiskringen
ATTACH;FMTTYPE=image/png:https://www.christengemeente-midden-limburg.nl/wp-content/uploads/2024/04/huiskringen.png
END:VEVENT
BEGIN:VEVENT
DTSTART;TZID=Europe/Amsterdam:20250415T200000
DTEND;TZID=Europe/Amsterdam:20250415T220000
DTSTAMP:20260421T183159
CREATED:20250107T153935Z
LAST-MODIFIED:20250107T153935Z
UID:5985-1744747200-1744754400@www.christengemeente-midden-limburg.nl
SUMMARY:Kringavonden
DESCRIPTION:
URL:https://www.christengemeente-midden-limburg.nl/agenda-item/kringavonden-15-04-2025/
CATEGORIES:Huiskringen
ATTACH;FMTTYPE=image/png:https://www.christengemeente-midden-limburg.nl/wp-content/uploads/2024/04/huiskringen.png
END:VEVENT
BEGIN:VEVENT
DTSTART;TZID=Europe/Amsterdam:20250402T200000
DTEND;TZID=Europe/Amsterdam:20250402T220000
DTSTAMP:20260421T183200
CREATED:20250107T153706Z
LAST-MODIFIED:20250107T153706Z
UID:5980-1743624000-1743631200@www.christengemeente-midden-limburg.nl
SUMMARY:Kringavonden
DESCRIPTION:
URL:https://www.christengemeente-midden-limburg.nl/agenda-item/kringavonden-02-04-2025/
CATEGORIES:Huiskringen
ATTACH;FMTTYPE=image/png:https://www.christengemeente-midden-limburg.nl/wp-content/uploads/2024/04/huiskringen.png
END:VEVENT
BEGIN:VEVENT
DTSTART;TZID=Europe/Amsterdam:20250401T200000
DTEND;TZID=Europe/Amsterdam:20250401T220000
DTSTAMP:20260421T183200
CREATED:20250107T153644Z
LAST-MODIFIED:20250107T153644Z
UID:5978-1743537600-1743544800@www.christengemeente-midden-limburg.nl
SUMMARY:Kringavonden
DESCRIPTION:
URL:https://www.christengemeente-midden-limburg.nl/agenda-item/kringavonden-01-04-2025/
CATEGORIES:Huiskringen
ATTACH;FMTTYPE=image/png:https://www.christengemeente-midden-limburg.nl/wp-content/uploads/2024/04/huiskringen.png
END:VEVENT
BEGIN:VEVENT
DTSTART;TZID=Europe/Amsterdam:20250319T200000
DTEND;TZID=Europe/Amsterdam:20250319T220000
DTSTAMP:20260421T183200
CREATED:20250107T153442Z
LAST-MODIFIED:20250107T153442Z
UID:5974-1742414400-1742421600@www.christengemeente-midden-limburg.nl
SUMMARY:Kringavonden
DESCRIPTION:
URL:https://www.christengemeente-midden-limburg.nl/agenda-item/kringavonden-19-03-2025/
CATEGORIES:Huiskringen
ATTACH;FMTTYPE=image/png:https://www.christengemeente-midden-limburg.nl/wp-content/uploads/2024/04/huiskringen.png
END:VEVENT
BEGIN:VEVENT
DTSTART;TZID=Europe/Amsterdam:20250318T200000
DTEND;TZID=Europe/Amsterdam:20250318T220000
DTSTAMP:20260421T183200
CREATED:20250107T153404Z
LAST-MODIFIED:20250107T153404Z
UID:5972-1742328000-1742335200@www.christengemeente-midden-limburg.nl
SUMMARY:Kringavonden
DESCRIPTION:
URL:https://www.christengemeente-midden-limburg.nl/agenda-item/kringavonden-18-03-2025/
CATEGORIES:Huiskringen
ATTACH;FMTTYPE=image/png:https://www.christengemeente-midden-limburg.nl/wp-content/uploads/2024/04/huiskringen.png
END:VEVENT
BEGIN:VEVENT
DTSTART;TZID=Europe/Amsterdam:20250219T200000
DTEND;TZID=Europe/Amsterdam:20250219T220000
DTSTAMP:20260421T183200
CREATED:20250107T153101Z
LAST-MODIFIED:20250107T153101Z
UID:5966-1739995200-1740002400@www.christengemeente-midden-limburg.nl
SUMMARY:Kringavonden
DESCRIPTION:
URL:https://www.christengemeente-midden-limburg.nl/agenda-item/kringavonden-19-02-2025/
CATEGORIES:Huiskringen
ATTACH;FMTTYPE=image/png:https://www.christengemeente-midden-limburg.nl/wp-content/uploads/2024/04/huiskringen.png
END:VEVENT
BEGIN:VEVENT
DTSTART;TZID=Europe/Amsterdam:20250218T200000
DTEND;TZID=Europe/Amsterdam:20250218T220000
DTSTAMP:20260421T183200
CREATED:20250107T153037Z
LAST-MODIFIED:20250107T153037Z
UID:5964-1739908800-1739916000@www.christengemeente-midden-limburg.nl
SUMMARY:Kringavonden
DESCRIPTION:
URL:https://www.christengemeente-midden-limburg.nl/agenda-item/kringavonden-18-02-2025/
CATEGORIES:Huiskringen
ATTACH;FMTTYPE=image/png:https://www.christengemeente-midden-limburg.nl/wp-content/uploads/2024/04/huiskringen.png
END:VEVENT
BEGIN:VEVENT
DTSTART;TZID=Europe/Amsterdam:20250205T200000
DTEND;TZID=Europe/Amsterdam:20250205T220000
DTSTAMP:20260421T183200
CREATED:20250107T152652Z
LAST-MODIFIED:20250107T152652Z
UID:5958-1738785600-1738792800@www.christengemeente-midden-limburg.nl
SUMMARY:Kringavonden
DESCRIPTION:
URL:https://www.christengemeente-midden-limburg.nl/agenda-item/kringavonden-05-02-2025/
CATEGORIES:Huiskringen
ATTACH;FMTTYPE=image/png:https://www.christengemeente-midden-limburg.nl/wp-content/uploads/2024/04/huiskringen.png
END:VEVENT
BEGIN:VEVENT
DTSTART;TZID=Europe/Amsterdam:20250204T200000
DTEND;TZID=Europe/Amsterdam:20250204T220000
DTSTAMP:20260421T183200
CREATED:20250107T152627Z
LAST-MODIFIED:20250107T152627Z
UID:5956-1738699200-1738706400@www.christengemeente-midden-limburg.nl
SUMMARY:Kringavonden
DESCRIPTION:
URL:https://www.christengemeente-midden-limburg.nl/agenda-item/kringavonden-04-02-2025/
CATEGORIES:Huiskringen
ATTACH;FMTTYPE=image/png:https://www.christengemeente-midden-limburg.nl/wp-content/uploads/2024/04/huiskringen.png
END:VEVENT
BEGIN:VEVENT
DTSTART;TZID=Europe/Amsterdam:20250122T200000
DTEND;TZID=Europe/Amsterdam:20250122T220000
DTSTAMP:20260421T183200
CREATED:20250107T152227Z
LAST-MODIFIED:20250107T152227Z
UID:5951-1737576000-1737583200@www.christengemeente-midden-limburg.nl
SUMMARY:Kringavonden
DESCRIPTION:
URL:https://www.christengemeente-midden-limburg.nl/agenda-item/kringavonden-22-01-2025/
CATEGORIES:Huiskringen
ATTACH;FMTTYPE=image/png:https://www.christengemeente-midden-limburg.nl/wp-content/uploads/2024/04/huiskringen.png
END:VEVENT
BEGIN:VEVENT
DTSTART;TZID=Europe/Amsterdam:20250121T200000
DTEND;TZID=Europe/Amsterdam:20250121T220000
DTSTAMP:20260421T183200
CREATED:20250107T152130Z
LAST-MODIFIED:20250107T152130Z
UID:5949-1737489600-1737496800@www.christengemeente-midden-limburg.nl
SUMMARY:Kringavonden
DESCRIPTION:
URL:https://www.christengemeente-midden-limburg.nl/agenda-item/kringavonden-21-01-2025/
CATEGORIES:Huiskringen
ATTACH;FMTTYPE=image/png:https://www.christengemeente-midden-limburg.nl/wp-content/uploads/2024/04/huiskringen.png
END:VEVENT
BEGIN:VEVENT
DTSTART;TZID=Europe/Amsterdam:20241211T200000
DTEND;TZID=Europe/Amsterdam:20241211T220000
DTSTAMP:20260421T183200
CREATED:20240820T123616Z
LAST-MODIFIED:20240820T123616Z
UID:5415-1733947200-1733954400@www.christengemeente-midden-limburg.nl
SUMMARY:Kringavonden
DESCRIPTION:
URL:https://www.christengemeente-midden-limburg.nl/agenda-item/kringavonden-11-12-2024/
CATEGORIES:Huiskringen
ATTACH;FMTTYPE=image/png:https://www.christengemeente-midden-limburg.nl/wp-content/uploads/2024/04/huiskringen.png
END:VEVENT
BEGIN:VEVENT
DTSTART;TZID=Europe/Amsterdam:20241210T200000
DTEND;TZID=Europe/Amsterdam:20241210T220000
DTSTAMP:20260421T183200
CREATED:20240820T123555Z
LAST-MODIFIED:20240820T123555Z
UID:5413-1733860800-1733868000@www.christengemeente-midden-limburg.nl
SUMMARY:Kringavonden
DESCRIPTION:
URL:https://www.christengemeente-midden-limburg.nl/agenda-item/kringavonden-10-12-2024/
CATEGORIES:Huiskringen
ATTACH;FMTTYPE=image/png:https://www.christengemeente-midden-limburg.nl/wp-content/uploads/2024/04/huiskringen.png
END:VEVENT
BEGIN:VEVENT
DTSTART;TZID=Europe/Amsterdam:20241127T200000
DTEND;TZID=Europe/Amsterdam:20241127T220000
DTSTAMP:20260421T183200
CREATED:20240820T123251Z
LAST-MODIFIED:20240820T123251Z
UID:5404-1732737600-1732744800@www.christengemeente-midden-limburg.nl
SUMMARY:Kringavonden
DESCRIPTION:
URL:https://www.christengemeente-midden-limburg.nl/agenda-item/kringavonden-27-11-2024/
CATEGORIES:Huiskringen
ATTACH;FMTTYPE=image/png:https://www.christengemeente-midden-limburg.nl/wp-content/uploads/2024/04/huiskringen.png
END:VEVENT
BEGIN:VEVENT
DTSTART;TZID=Europe/Amsterdam:20241126T200000
DTEND;TZID=Europe/Amsterdam:20241126T220000
DTSTAMP:20260421T183200
CREATED:20240820T123234Z
LAST-MODIFIED:20240820T123234Z
UID:5402-1732651200-1732658400@www.christengemeente-midden-limburg.nl
SUMMARY:Kringavonden
DESCRIPTION:
URL:https://www.christengemeente-midden-limburg.nl/agenda-item/kringavonden-26-11-2024/
CATEGORIES:Huiskringen
ATTACH;FMTTYPE=image/png:https://www.christengemeente-midden-limburg.nl/wp-content/uploads/2024/04/huiskringen.png
END:VEVENT
BEGIN:VEVENT
DTSTART;TZID=Europe/Amsterdam:20241113T200000
DTEND;TZID=Europe/Amsterdam:20241113T220000
DTSTAMP:20260421T183200
CREATED:20240820T122401Z
LAST-MODIFIED:20240820T122401Z
UID:5393-1731528000-1731535200@www.christengemeente-midden-limburg.nl
SUMMARY:Kringavonden
DESCRIPTION:
URL:https://www.christengemeente-midden-limburg.nl/agenda-item/kringavonden-13-11-2024/
CATEGORIES:Huiskringen
ATTACH;FMTTYPE=image/png:https://www.christengemeente-midden-limburg.nl/wp-content/uploads/2024/04/huiskringen.png
END:VEVENT
BEGIN:VEVENT
DTSTART;TZID=Europe/Amsterdam:20241112T200000
DTEND;TZID=Europe/Amsterdam:20241112T220000
DTSTAMP:20260421T183200
CREATED:20240820T122344Z
LAST-MODIFIED:20240820T122344Z
UID:5391-1731441600-1731448800@www.christengemeente-midden-limburg.nl
SUMMARY:Kringavonden
DESCRIPTION:
URL:https://www.christengemeente-midden-limburg.nl/agenda-item/kringavonden-12-11-2024/
CATEGORIES:Huiskringen
ATTACH;FMTTYPE=image/png:https://www.christengemeente-midden-limburg.nl/wp-content/uploads/2024/04/huiskringen.png
END:VEVENT
BEGIN:VEVENT
DTSTART;TZID=Europe/Amsterdam:20241030T200000
DTEND;TZID=Europe/Amsterdam:20241030T220000
DTSTAMP:20260421T183200
CREATED:20240820T121638Z
LAST-MODIFIED:20240820T121638Z
UID:5382-1730318400-1730325600@www.christengemeente-midden-limburg.nl
SUMMARY:Kringavonden
DESCRIPTION:
URL:https://www.christengemeente-midden-limburg.nl/agenda-item/kringavonden-30-10-2024/
CATEGORIES:Huiskringen
ATTACH;FMTTYPE=image/png:https://www.christengemeente-midden-limburg.nl/wp-content/uploads/2024/04/huiskringen.png
END:VEVENT
BEGIN:VEVENT
DTSTART;TZID=Europe/Amsterdam:20241029T200000
DTEND;TZID=Europe/Amsterdam:20241029T220000
DTSTAMP:20260421T183200
CREATED:20240820T121618Z
LAST-MODIFIED:20240820T121618Z
UID:5380-1730232000-1730239200@www.christengemeente-midden-limburg.nl
SUMMARY:Kringavonden
DESCRIPTION:
URL:https://www.christengemeente-midden-limburg.nl/agenda-item/kringavonden-29-10-2024/
CATEGORIES:Huiskringen
ATTACH;FMTTYPE=image/png:https://www.christengemeente-midden-limburg.nl/wp-content/uploads/2024/04/huiskringen.png
END:VEVENT
BEGIN:VEVENT
DTSTART;TZID=Europe/Amsterdam:20241016T200000
DTEND;TZID=Europe/Amsterdam:20241016T220000
DTSTAMP:20260421T183200
CREATED:20240820T085203Z
LAST-MODIFIED:20240820T085203Z
UID:5369-1729108800-1729116000@www.christengemeente-midden-limburg.nl
SUMMARY:Kringavonden
DESCRIPTION:
URL:https://www.christengemeente-midden-limburg.nl/agenda-item/kringavonden-16-10-2024/
CATEGORIES:Huiskringen
ATTACH;FMTTYPE=image/png:https://www.christengemeente-midden-limburg.nl/wp-content/uploads/2024/04/huiskringen.png
END:VEVENT
BEGIN:VEVENT
DTSTART;TZID=Europe/Amsterdam:20241015T200000
DTEND;TZID=Europe/Amsterdam:20241015T220000
DTSTAMP:20260421T183200
CREATED:20240820T085140Z
LAST-MODIFIED:20240820T085140Z
UID:5367-1729022400-1729029600@www.christengemeente-midden-limburg.nl
SUMMARY:Kringavonden
DESCRIPTION:
URL:https://www.christengemeente-midden-limburg.nl/agenda-item/kringavonden-15-10-2024/
CATEGORIES:Huiskringen
ATTACH;FMTTYPE=image/png:https://www.christengemeente-midden-limburg.nl/wp-content/uploads/2024/04/huiskringen.png
END:VEVENT
BEGIN:VEVENT
DTSTART;TZID=Europe/Amsterdam:20241002T200000
DTEND;TZID=Europe/Amsterdam:20241002T220000
DTSTAMP:20260421T183200
CREATED:20240819T134136Z
LAST-MODIFIED:20240819T134136Z
UID:5355-1727899200-1727906400@www.christengemeente-midden-limburg.nl
SUMMARY:Kringavonden
DESCRIPTION:
URL:https://www.christengemeente-midden-limburg.nl/agenda-item/kringavonden-02-10-2024/
CATEGORIES:Huiskringen
ATTACH;FMTTYPE=image/png:https://www.christengemeente-midden-limburg.nl/wp-content/uploads/2024/04/huiskringen.png
END:VEVENT
BEGIN:VEVENT
DTSTART;TZID=Europe/Amsterdam:20241001T200000
DTEND;TZID=Europe/Amsterdam:20241001T220000
DTSTAMP:20260421T183200
CREATED:20240819T134051Z
LAST-MODIFIED:20240819T134051Z
UID:5353-1727812800-1727820000@www.christengemeente-midden-limburg.nl
SUMMARY:Kringavonden
DESCRIPTION:
URL:https://www.christengemeente-midden-limburg.nl/agenda-item/kringavonden-01-10-2024/
CATEGORIES:Huiskringen
ATTACH;FMTTYPE=image/png:https://www.christengemeente-midden-limburg.nl/wp-content/uploads/2024/04/huiskringen.png
END:VEVENT
BEGIN:VEVENT
DTSTART;TZID=Europe/Amsterdam:20240904T200000
DTEND;TZID=Europe/Amsterdam:20240904T220000
DTSTAMP:20260421T183200
CREATED:20240819T111845Z
LAST-MODIFIED:20240819T111845Z
UID:5338-1725480000-1725487200@www.christengemeente-midden-limburg.nl
SUMMARY:Kringavonden
DESCRIPTION:
URL:https://www.christengemeente-midden-limburg.nl/agenda-item/kringavonden-04-09-2024/
CATEGORIES:Huiskringen
ATTACH;FMTTYPE=image/png:https://www.christengemeente-midden-limburg.nl/wp-content/uploads/2024/04/huiskringen.png
END:VEVENT
BEGIN:VEVENT
DTSTART;TZID=Europe/Amsterdam:20240903T200000
DTEND;TZID=Europe/Amsterdam:20240903T220000
DTSTAMP:20260421T183200
CREATED:20240819T111325Z
LAST-MODIFIED:20240819T111325Z
UID:5336-1725393600-1725400800@www.christengemeente-midden-limburg.nl
SUMMARY:Kringavonden
DESCRIPTION:
URL:https://www.christengemeente-midden-limburg.nl/agenda-item/kringavonden-03-09-2024/
CATEGORIES:Huiskringen
ATTACH;FMTTYPE=image/png:https://www.christengemeente-midden-limburg.nl/wp-content/uploads/2024/04/huiskringen.png
END:VEVENT
BEGIN:VEVENT
DTSTART;TZID=Europe/Amsterdam:20240612T200000
DTEND;TZID=Europe/Amsterdam:20240612T220000
DTSTAMP:20260421T183200
CREATED:20240412T154139Z
LAST-MODIFIED:20240819T081207Z
UID:4432-1718222400-1718229600@www.christengemeente-midden-limburg.nl
SUMMARY:Kringavonden
DESCRIPTION:
URL:https://www.christengemeente-midden-limburg.nl/agenda-item/kringavonden-12-06-2024/
CATEGORIES:Huiskringen
ATTACH;FMTTYPE=image/png:https://www.christengemeente-midden-limburg.nl/wp-content/uploads/2024/04/huiskringen.png
END:VEVENT
BEGIN:VEVENT
DTSTART;TZID=Europe/Amsterdam:20240611T200000
DTEND;TZID=Europe/Amsterdam:20240611T220000
DTSTAMP:20260421T183200
CREATED:20240412T154119Z
LAST-MODIFIED:20240819T081228Z
UID:4430-1718136000-1718143200@www.christengemeente-midden-limburg.nl
SUMMARY:kringavonden
DESCRIPTION:
URL:https://www.christengemeente-midden-limburg.nl/agenda-item/kringavonden-11-06-2024/
CATEGORIES:Huiskringen
ATTACH;FMTTYPE=image/png:https://www.christengemeente-midden-limburg.nl/wp-content/uploads/2024/04/huiskringen.png
END:VEVENT
BEGIN:VEVENT
DTSTART;TZID=Europe/Amsterdam:20240529T200000
DTEND;TZID=Europe/Amsterdam:20240529T220000
DTSTAMP:20260421T183200
CREATED:20240412T080008Z
LAST-MODIFIED:20240819T084856Z
UID:4379-1717012800-1717020000@www.christengemeente-midden-limburg.nl
SUMMARY:kringavonden
DESCRIPTION:
URL:https://www.christengemeente-midden-limburg.nl/agenda-item/kringavonden-29-05-2024/
CATEGORIES:Huiskringen
ATTACH;FMTTYPE=image/png:https://www.christengemeente-midden-limburg.nl/wp-content/uploads/2024/04/huiskringen.png
END:VEVENT
BEGIN:VEVENT
DTSTART;TZID=Europe/Amsterdam:20240528T200000
DTEND;TZID=Europe/Amsterdam:20240528T220000
DTSTAMP:20260421T183200
CREATED:20240412T075847Z
LAST-MODIFIED:20240819T084909Z
UID:4377-1716926400-1716933600@www.christengemeente-midden-limburg.nl
SUMMARY:Kringavonden
DESCRIPTION:
URL:https://www.christengemeente-midden-limburg.nl/agenda-item/kringavonden-28-05-2024/
CATEGORIES:Huiskringen
ATTACH;FMTTYPE=image/png:https://www.christengemeente-midden-limburg.nl/wp-content/uploads/2024/04/huiskringen.png
END:VEVENT
BEGIN:VEVENT
DTSTART;TZID=Europe/Amsterdam:20240417T200000
DTEND;TZID=Europe/Amsterdam:20240417T220000
DTSTAMP:20260421T183200
CREATED:20240411T100535Z
LAST-MODIFIED:20240819T085158Z
UID:4297-1713384000-1713391200@www.christengemeente-midden-limburg.nl
SUMMARY:Kringavonden
DESCRIPTION:
URL:https://www.christengemeente-midden-limburg.nl/agenda-item/kringavonden-17-04-2024/
CATEGORIES:Huiskringen
ATTACH;FMTTYPE=image/png:https://www.christengemeente-midden-limburg.nl/wp-content/uploads/2024/04/huiskringen.png
END:VEVENT
BEGIN:VEVENT
DTSTART;TZID=Europe/Amsterdam:20240416T200000
DTEND;TZID=Europe/Amsterdam:20240416T220000
DTSTAMP:20260421T183200
CREATED:20240411T100337Z
LAST-MODIFIED:20240819T085209Z
UID:4295-1713297600-1713304800@www.christengemeente-midden-limburg.nl
SUMMARY:Kringavonden
DESCRIPTION:
URL:https://www.christengemeente-midden-limburg.nl/agenda-item/kringavonden-16-04-2024/
CATEGORIES:Huiskringen
ATTACH;FMTTYPE=image/png:https://www.christengemeente-midden-limburg.nl/wp-content/uploads/2024/04/huiskringen.png
END:VEVENT
END:VCALENDAR