BEGIN:VCALENDAR
VERSION:2.0
PRODID:-//Christengemeente Midden-Limburg - ECPv6.15.20//NONSGML v1.0//EN
CALSCALE:GREGORIAN
METHOD:PUBLISH
X-ORIGINAL-URL:https://www.christengemeente-midden-limburg.nl
X-WR-CALDESC:Evenementen voor Christengemeente Midden-Limburg
REFRESH-INTERVAL;VALUE=DURATION:PT1H
X-Robots-Tag:noindex
X-PUBLISHED-TTL:PT1H
BEGIN:VTIMEZONE
TZID:Europe/Amsterdam
BEGIN:DAYLIGHT
TZOFFSETFROM:+0100
TZOFFSETTO:+0200
TZNAME:CEST
DTSTART:20230326T010000
END:DAYLIGHT
BEGIN:STANDARD
TZOFFSETFROM:+0200
TZOFFSETTO:+0100
TZNAME:CET
DTSTART:20231029T010000
END:STANDARD
BEGIN:DAYLIGHT
TZOFFSETFROM:+0100
TZOFFSETTO:+0200
TZNAME:CEST
DTSTART:20240331T010000
END:DAYLIGHT
BEGIN:STANDARD
TZOFFSETFROM:+0200
TZOFFSETTO:+0100
TZNAME:CET
DTSTART:20241027T010000
END:STANDARD
BEGIN:DAYLIGHT
TZOFFSETFROM:+0100
TZOFFSETTO:+0200
TZNAME:CEST
DTSTART:20250330T010000
END:DAYLIGHT
BEGIN:STANDARD
TZOFFSETFROM:+0200
TZOFFSETTO:+0100
TZNAME:CET
DTSTART:20251026T010000
END:STANDARD
BEGIN:DAYLIGHT
TZOFFSETFROM:+0100
TZOFFSETTO:+0200
TZNAME:CEST
DTSTART:20260329T010000
END:DAYLIGHT
BEGIN:STANDARD
TZOFFSETFROM:+0200
TZOFFSETTO:+0100
TZNAME:CET
DTSTART:20261025T010000
END:STANDARD
END:VTIMEZONE
BEGIN:VEVENT
DTSTART;TZID=Europe/Amsterdam:20250507T200000
DTEND;TZID=Europe/Amsterdam:20250507T220000
DTSTAMP:20260422T212649
CREATED:20250107T154139Z
LAST-MODIFIED:20250107T154139Z
UID:5989-1746648000-1746655200@www.christengemeente-midden-limburg.nl
SUMMARY:Bidstond
DESCRIPTION:
URL:https://www.christengemeente-midden-limburg.nl/agenda-item/bidstond-07-05-2025/
LOCATION:Baexheimerhof\, Kerkstraat 1a\, Baexem
CATEGORIES:Gebedssamenkomst
ATTACH;FMTTYPE=image/png:https://www.christengemeente-midden-limburg.nl/wp-content/uploads/2024/08/gebedsbijeenkomst.png
END:VEVENT
BEGIN:VEVENT
DTSTART;TZID=Europe/Amsterdam:20250326T200000
DTEND;TZID=Europe/Amsterdam:20250326T220000
DTSTAMP:20260422T212649
CREATED:20250107T153536Z
LAST-MODIFIED:20250107T153536Z
UID:5976-1743019200-1743026400@www.christengemeente-midden-limburg.nl
SUMMARY:Bidstond
DESCRIPTION:
URL:https://www.christengemeente-midden-limburg.nl/agenda-item/bidstond-26-03-2025/
LOCATION:Baexheimerhof\, Kerkstraat 1a\, Baexem
CATEGORIES:Gebedssamenkomst
ATTACH;FMTTYPE=image/png:https://www.christengemeente-midden-limburg.nl/wp-content/uploads/2024/08/gebedsbijeenkomst.png
END:VEVENT
BEGIN:VEVENT
DTSTART;TZID=Europe/Amsterdam:20250312T200000
DTEND;TZID=Europe/Amsterdam:20250312T220000
DTSTAMP:20260422T212649
CREATED:20250107T153257Z
LAST-MODIFIED:20250107T153257Z
UID:5970-1741809600-1741816800@www.christengemeente-midden-limburg.nl
SUMMARY:Bidstond
DESCRIPTION:
URL:https://www.christengemeente-midden-limburg.nl/agenda-item/bidstond-12-03-2025/
LOCATION:Baexheimerhof\, Kerkstraat 1a\, Baexem
CATEGORIES:Gebedssamenkomst
ATTACH;FMTTYPE=image/png:https://www.christengemeente-midden-limburg.nl/wp-content/uploads/2024/08/gebedsbijeenkomst.png
END:VEVENT
BEGIN:VEVENT
DTSTART;TZID=Europe/Amsterdam:20250226T200000
DTEND;TZID=Europe/Amsterdam:20250226T220000
DTSTAMP:20260422T212649
CREATED:20250107T153156Z
LAST-MODIFIED:20250107T153156Z
UID:5968-1740600000-1740607200@www.christengemeente-midden-limburg.nl
SUMMARY:Bidstond
DESCRIPTION:
URL:https://www.christengemeente-midden-limburg.nl/agenda-item/bidstond-26-02-2025/
LOCATION:Baexheimerhof\, Kerkstraat 1a\, Baexem
CATEGORIES:Gebedssamenkomst
ATTACH;FMTTYPE=image/png:https://www.christengemeente-midden-limburg.nl/wp-content/uploads/2024/08/gebedsbijeenkomst.png
END:VEVENT
BEGIN:VEVENT
DTSTART;TZID=Europe/Amsterdam:20250212T200000
DTEND;TZID=Europe/Amsterdam:20250212T220000
DTSTAMP:20260422T212649
CREATED:20250107T152952Z
LAST-MODIFIED:20250107T152952Z
UID:5962-1739390400-1739397600@www.christengemeente-midden-limburg.nl
SUMMARY:Bidstond
DESCRIPTION:
URL:https://www.christengemeente-midden-limburg.nl/agenda-item/bidstond-12-02-2025/
LOCATION:Baexheimerhof\, Kerkstraat 1a\, Baexem
CATEGORIES:Gebedssamenkomst
ATTACH;FMTTYPE=image/png:https://www.christengemeente-midden-limburg.nl/wp-content/uploads/2024/08/gebedsbijeenkomst.png
END:VEVENT
BEGIN:VEVENT
DTSTART;TZID=Europe/Amsterdam:20250129T200000
DTEND;TZID=Europe/Amsterdam:20250129T220000
DTSTAMP:20260422T212649
CREATED:20250107T152425Z
LAST-MODIFIED:20250107T152425Z
UID:5954-1738180800-1738188000@www.christengemeente-midden-limburg.nl
SUMMARY:Bidstond
DESCRIPTION:
URL:https://www.christengemeente-midden-limburg.nl/agenda-item/bidstond-29-01-2025/
LOCATION:Baexheimerhof\, Kerkstraat 1a\, Baexem
CATEGORIES:Gebedssamenkomst
ATTACH;FMTTYPE=image/png:https://www.christengemeente-midden-limburg.nl/wp-content/uploads/2024/08/gebedsbijeenkomst.png
END:VEVENT
BEGIN:VEVENT
DTSTART;TZID=Europe/Amsterdam:20250115T200000
DTEND;TZID=Europe/Amsterdam:20250115T220000
DTSTAMP:20260422T212649
CREATED:20250107T151919Z
LAST-MODIFIED:20250107T151919Z
UID:5947-1736971200-1736978400@www.christengemeente-midden-limburg.nl
SUMMARY:Bidstond
DESCRIPTION:
URL:https://www.christengemeente-midden-limburg.nl/agenda-item/bidstond-15-01-2025/
LOCATION:Baexheimerhof\, Kerkstraat 1a\, Baexem
CATEGORIES:Gebedssamenkomst
ATTACH;FMTTYPE=image/png:https://www.christengemeente-midden-limburg.nl/wp-content/uploads/2024/08/gebedsbijeenkomst.png
END:VEVENT
BEGIN:VEVENT
DTSTART;TZID=Europe/Amsterdam:20241218T200000
DTEND;TZID=Europe/Amsterdam:20241218T220000
DTSTAMP:20260422T212649
CREATED:20240820T123721Z
LAST-MODIFIED:20240820T123721Z
UID:5419-1734552000-1734559200@www.christengemeente-midden-limburg.nl
SUMMARY:Bidstond
DESCRIPTION:
URL:https://www.christengemeente-midden-limburg.nl/agenda-item/bidstond-18-12-2024/
LOCATION:Baexheimerhof\, Kerkstraat 1a\, Baexem
CATEGORIES:Gebedssamenkomst
ATTACH;FMTTYPE=image/png:https://www.christengemeente-midden-limburg.nl/wp-content/uploads/2024/08/gebedsbijeenkomst.png
END:VEVENT
BEGIN:VEVENT
DTSTART;TZID=Europe/Amsterdam:20241209T140000
DTEND;TZID=Europe/Amsterdam:20241209T150000
DTSTAMP:20260422T212649
CREATED:20240830T201823Z
LAST-MODIFIED:20241208T111114Z
UID:5585-1733752800-1733756400@www.christengemeente-midden-limburg.nl
SUMMARY:Vrouwenbidstond
DESCRIPTION:Vrouwenbidstond via Whatsapp
URL:https://www.christengemeente-midden-limburg.nl/agenda-item/vrouwenbidstond-4/
CATEGORIES:Gebedssamenkomst
ATTACH;FMTTYPE=image/png:https://www.christengemeente-midden-limburg.nl/wp-content/uploads/2024/08/gebedsbijeenkomst.png
END:VEVENT
BEGIN:VEVENT
DTSTART;TZID=Europe/Amsterdam:20241204T200000
DTEND;TZID=Europe/Amsterdam:20241204T220000
DTSTAMP:20260422T212649
CREATED:20240820T123408Z
LAST-MODIFIED:20240820T123408Z
UID:5409-1733342400-1733349600@www.christengemeente-midden-limburg.nl
SUMMARY:Bidstond
DESCRIPTION:
URL:https://www.christengemeente-midden-limburg.nl/agenda-item/bidstond-04-12-2024/
LOCATION:Baexheimerhof\, Kerkstraat 1a\, Baexem
CATEGORIES:Gebedssamenkomst
ATTACH;FMTTYPE=image/png:https://www.christengemeente-midden-limburg.nl/wp-content/uploads/2024/08/gebedsbijeenkomst.png
END:VEVENT
BEGIN:VEVENT
DTSTART;TZID=Europe/Amsterdam:20241111T140000
DTEND;TZID=Europe/Amsterdam:20241111T150000
DTSTAMP:20260422T212649
CREATED:20240830T201713Z
LAST-MODIFIED:20240908T190900Z
UID:5583-1731333600-1731337200@www.christengemeente-midden-limburg.nl
SUMMARY:Vrouwenbidstond
DESCRIPTION:Vrouwenbidstond op locatie en via Whatsapp
URL:https://www.christengemeente-midden-limburg.nl/agenda-item/vrouwenbidstond-3/
CATEGORIES:Gebedssamenkomst
ATTACH;FMTTYPE=image/png:https://www.christengemeente-midden-limburg.nl/wp-content/uploads/2024/08/gebedsbijeenkomst.png
END:VEVENT
BEGIN:VEVENT
DTSTART;TZID=Europe/Amsterdam:20241106T200000
DTEND;TZID=Europe/Amsterdam:20241106T220000
DTSTAMP:20260422T212649
CREATED:20240820T122036Z
LAST-MODIFIED:20240820T122036Z
UID:5387-1730923200-1730930400@www.christengemeente-midden-limburg.nl
SUMMARY:Bidstond
DESCRIPTION:
URL:https://www.christengemeente-midden-limburg.nl/agenda-item/bidstond-6-11-2024/
LOCATION:Baexheimerhof\, Kerkstraat 1a\, Baexem
CATEGORIES:Gebedssamenkomst
ATTACH;FMTTYPE=image/png:https://www.christengemeente-midden-limburg.nl/wp-content/uploads/2024/08/gebedsbijeenkomst.png
END:VEVENT
BEGIN:VEVENT
DTSTART;TZID=Europe/Amsterdam:20241014T140000
DTEND;TZID=Europe/Amsterdam:20241014T150000
DTSTAMP:20260422T212649
CREATED:20240830T201544Z
LAST-MODIFIED:20240908T190840Z
UID:5581-1728914400-1728918000@www.christengemeente-midden-limburg.nl
SUMMARY:Vrouwenbidstond
DESCRIPTION:Vrouwenbidstond op locatie en via Whatsapp
URL:https://www.christengemeente-midden-limburg.nl/agenda-item/vrouwenbidstond-2/
CATEGORIES:Gebedssamenkomst
ATTACH;FMTTYPE=image/png:https://www.christengemeente-midden-limburg.nl/wp-content/uploads/2024/08/gebedsbijeenkomst.png
END:VEVENT
BEGIN:VEVENT
DTSTART;TZID=Europe/Amsterdam:20241009T200000
DTEND;TZID=Europe/Amsterdam:20241009T220000
DTSTAMP:20260422T212649
CREATED:20240819T140453Z
LAST-MODIFIED:20240819T140453Z
UID:5360-1728504000-1728511200@www.christengemeente-midden-limburg.nl
SUMMARY:Bidstond
DESCRIPTION:
URL:https://www.christengemeente-midden-limburg.nl/agenda-item/bidstond-09-10-2024/
LOCATION:Baexheimerhof\, Kerkstraat 1a\, Baexem
CATEGORIES:Gebedssamenkomst
ATTACH;FMTTYPE=image/png:https://www.christengemeente-midden-limburg.nl/wp-content/uploads/2024/08/gebedsbijeenkomst.png
END:VEVENT
BEGIN:VEVENT
DTSTART;TZID=Europe/Amsterdam:20240916T140000
DTEND;TZID=Europe/Amsterdam:20240916T150000
DTSTAMP:20260422T212649
CREATED:20240830T201445Z
LAST-MODIFIED:20240908T190757Z
UID:5578-1726495200-1726498800@www.christengemeente-midden-limburg.nl
SUMMARY:Vrouwenbidstond
DESCRIPTION:Vrouwenbidstond op locatie en via Whatsapp
URL:https://www.christengemeente-midden-limburg.nl/agenda-item/vrouwenbidstond/
CATEGORIES:Gebedssamenkomst
ATTACH;FMTTYPE=image/png:https://www.christengemeente-midden-limburg.nl/wp-content/uploads/2024/08/gebedsbijeenkomst.png
END:VEVENT
BEGIN:VEVENT
DTSTART;TZID=Europe/Amsterdam:20240911T200000
DTEND;TZID=Europe/Amsterdam:20240911T220000
DTSTAMP:20260422T212649
CREATED:20240819T073650Z
LAST-MODIFIED:20240819T080514Z
UID:5327-1726084800-1726092000@www.christengemeente-midden-limburg.nl
SUMMARY:Bidstond
DESCRIPTION:
URL:https://www.christengemeente-midden-limburg.nl/agenda-item/bidstond-11-09-2024/
LOCATION:Baexheimerhof\, Kerkstraat 1a\, Baexem
CATEGORIES:Gebedssamenkomst
ATTACH;FMTTYPE=image/png:https://www.christengemeente-midden-limburg.nl/wp-content/uploads/2024/08/gebedsbijeenkomst.png
END:VEVENT
BEGIN:VEVENT
DTSTART;TZID=Europe/Amsterdam:20240703T200000
DTEND;TZID=Europe/Amsterdam:20240703T220000
DTSTAMP:20260422T212649
CREATED:20240412T190051Z
LAST-MODIFIED:20240819T080450Z
UID:4444-1720036800-1720044000@www.christengemeente-midden-limburg.nl
SUMMARY:Bidstond
DESCRIPTION:
URL:https://www.christengemeente-midden-limburg.nl/agenda-item/bidstond-03-07-2024/
LOCATION:Baexheimerhof\, Kerkstraat 1a\, Baexem
CATEGORIES:Gebedssamenkomst
ATTACH;FMTTYPE=image/png:https://www.christengemeente-midden-limburg.nl/wp-content/uploads/2024/08/gebedsbijeenkomst.png
END:VEVENT
BEGIN:VEVENT
DTSTART;TZID=Europe/Amsterdam:20240619T200000
DTEND;TZID=Europe/Amsterdam:20240619T220000
DTSTAMP:20260422T212649
CREATED:20240412T185855Z
LAST-MODIFIED:20240819T080921Z
UID:4438-1718827200-1718834400@www.christengemeente-midden-limburg.nl
SUMMARY:Bidstond
DESCRIPTION:
URL:https://www.christengemeente-midden-limburg.nl/agenda-item/bidstond-19-06-2024/
LOCATION:Baexheimerhof\, Kerkstraat 1a\, Baexem
CATEGORIES:Gebedssamenkomst
ATTACH;FMTTYPE=image/png:https://www.christengemeente-midden-limburg.nl/wp-content/uploads/2024/08/gebedsbijeenkomst.png
END:VEVENT
BEGIN:VEVENT
DTSTART;TZID=Europe/Amsterdam:20240605T200000
DTEND;TZID=Europe/Amsterdam:20240605T220000
DTSTAMP:20260422T212649
CREATED:20240412T153906Z
LAST-MODIFIED:20240819T084813Z
UID:4426-1717617600-1717624800@www.christengemeente-midden-limburg.nl
SUMMARY:Bidstond
DESCRIPTION:
URL:https://www.christengemeente-midden-limburg.nl/agenda-item/bidstond-05-06-2024/
LOCATION:Baexheimerhof\, Kerkstraat 1a\, Baexem
CATEGORIES:Gebedssamenkomst
ATTACH;FMTTYPE=image/png:https://www.christengemeente-midden-limburg.nl/wp-content/uploads/2024/08/gebedsbijeenkomst.png
END:VEVENT
BEGIN:VEVENT
DTSTART;TZID=Europe/Amsterdam:20240522T200000
DTEND;TZID=Europe/Amsterdam:20240522T220000
DTSTAMP:20260422T212649
CREATED:20240411T145245Z
LAST-MODIFIED:20240819T084941Z
UID:4343-1716408000-1716415200@www.christengemeente-midden-limburg.nl
SUMMARY:Bidstond
DESCRIPTION:
URL:https://www.christengemeente-midden-limburg.nl/agenda-item/bidstond-22-05-2024/
LOCATION:Baexheimerhof\, Kerkstraat 1a\, Baexem
CATEGORIES:Gebedssamenkomst
ATTACH;FMTTYPE=image/png:https://www.christengemeente-midden-limburg.nl/wp-content/uploads/2024/08/gebedsbijeenkomst.png
END:VEVENT
BEGIN:VEVENT
DTSTART;TZID=Europe/Amsterdam:20240508T200000
DTEND;TZID=Europe/Amsterdam:20240508T220000
DTSTAMP:20260422T212649
CREATED:20240411T134146Z
LAST-MODIFIED:20240819T085056Z
UID:4332-1715198400-1715205600@www.christengemeente-midden-limburg.nl
SUMMARY:Bidstond
DESCRIPTION:
URL:https://www.christengemeente-midden-limburg.nl/agenda-item/bidstond-08-05-2024/
LOCATION:Baexheimerhof\, Kerkstraat 1a\, Baexem
CATEGORIES:Gebedssamenkomst
ATTACH;FMTTYPE=image/png:https://www.christengemeente-midden-limburg.nl/wp-content/uploads/2024/08/gebedsbijeenkomst.png
END:VEVENT
BEGIN:VEVENT
DTSTART;TZID=Europe/Amsterdam:20240424T200000
DTEND;TZID=Europe/Amsterdam:20240424T210000
DTSTAMP:20260422T212649
CREATED:20240422T194544Z
LAST-MODIFIED:20240422T194544Z
UID:4780-1713988800-1713992400@www.christengemeente-midden-limburg.nl
SUMMARY:Bidstond
DESCRIPTION:
URL:https://www.christengemeente-midden-limburg.nl/agenda-item/bidstond/
LOCATION:Baexheimerhof\, Kerkstraat 1a\, Baexem
CATEGORIES:Gebedssamenkomst
END:VEVENT
BEGIN:VEVENT
DTSTART;TZID=Europe/Amsterdam:20240410T200000
DTEND;TZID=Europe/Amsterdam:20240410T220000
DTSTAMP:20260422T212649
CREATED:20240408T183945Z
LAST-MODIFIED:20240904T095138Z
UID:4119-1712779200-1712786400@www.christengemeente-midden-limburg.nl
SUMMARY:Bidstond
DESCRIPTION:
URL:https://www.christengemeente-midden-limburg.nl/agenda-item/bidstond-10-04-2024/
LOCATION:Baexheimerhof\, Kerkstraat 1a\, Baexem
CATEGORIES:Gebedssamenkomst
ATTACH;FMTTYPE=image/png:https://www.christengemeente-midden-limburg.nl/wp-content/uploads/2024/08/gebedsbijeenkomst.png
END:VEVENT
END:VCALENDAR